BEGIN:VCALENDAR
VERSION:2.0
PRODID:-//hacksw/handcal//NONSGML v1.0//EN
CALSCALE:GREGORIAN
BEGIN:VEVENT
DTEND:20260424T143000Z
UID:nova-uni-event-16724
DTSTAMP:20260424T111555Z
LOCATION:Online
DESCRIPTION:Vljudno vabljeni na 30. Evropski akademski forum Nove univerze pod naslovom: Pravni okvir za umetno inteligenco v Evropi in Sloveniji«. Dogodek bo potekal v sredo\, 20. novembra 2024\, s pričetkom ob 13.30. uri\, preko spletne aplikacije Zoom. Na dogodek se je potrebno prijaviti. Več informacij najdete v vabilu. Vabilo
URL;VALUE=URI:https://fds.nova-uni.si/dogodki/30-evropski-akademski-forum-jean-monnet/
SUMMARY:30. Evropski akademski forum Jean Monnet
DTSTART:20241120T133000Z
END:VEVENT
END:VCALENDAR