BEGIN:VCALENDAR
VERSION:2.0
PRODID:-//hacksw/handcal//NONSGML v1.0//EN
CALSCALE:GREGORIAN
BEGIN:VEVENT
DTEND:20241128T180000Z
UID:nova-uni-event-16764
DTSTAMP:20260424T111031Z
LOCATION:Ljubljana
DESCRIPTION:VABILO Obveščamo vas\, da bo v četrtek\, 28. 11. 2024\, gostujoča predavateljica profesorica dr. Kerry Longhurst izvedla predavanje z naslovom From Neighbours to Members: Opportunities and Challenges in the EU Enlargement Dynamic. Predavanje bo potekalo v predavalnici na Novi univerzi\, Mestni trg 23\, Ljubljana\, s pričetkom ob 17. uri. Vljudno vabljeni\, da se predavanja udeležite. [&hellip\;]
URL;VALUE=URI:https://fds.nova-uni.si/language/en/?post_type=dogodki&p=16764
SUMMARY:[VABILO]: Gostujoče predavanje prof. dr. Kerry Longhurst
DTSTART:20241128T170000Z
END:VEVENT
END:VCALENDAR