BEGIN:VCALENDAR
VERSION:2.0
PRODID:-//hacksw/handcal//NONSGML v1.0//EN
CALSCALE:GREGORIAN
BEGIN:VEVENT
DTEND:20241205T120000Z
UID:nova-uni-event-16801
DTSTAMP:20260424T093417Z
LOCATION:Mestni trg 23
DESCRIPTION:Evropska pravna fakulteta Nove univerze vljudno vabi na gostujoče predavanje izr. prof. dr. Marka Bošnjaka\, predsednika Evropskega sodišča za človekove pravice: Sodobni trendi človekovih pravic. Dogodek bo potekal v četrtek\, 5. 12. 2024 s pričetkom ob 10. uri v prostorih Evropske pravne fakultete v Ljubljani. Zaradi omejenega števila mest je prijava obvezna. Svojo udeležbo POTRDITE TUKAJ\, najkasneje do [&hellip\;]
URL;VALUE=URI:https://fds.nova-uni.si/dogodki/predavanje-predsednika-evropskega-sodisca-za-clovekove-pravice-dr-marka-bosnjaka/
SUMMARY:Predavanje predsednika Evropskega sodišča za človekove pravice dr. Marka Bošnjaka
DTSTART:20241205T100000Z
END:VEVENT
END:VCALENDAR