BEGIN:VCALENDAR
VERSION:2.0
PRODID:-//hacksw/handcal//NONSGML v1.0//EN
CALSCALE:GREGORIAN
BEGIN:VEVENT
DTEND:20241128T170000Z
UID:nova-uni-event-16807
DTSTAMP:20260424T110633Z
LOCATION:Ljubljana\, Nova univerza
DESCRIPTION:Vabimo vas na gostujoče predavanje pri predmetu Informacijska družba in uprava (nosilca predmeta: prof. dr. Dušan Lesjak in doc. dr. Benjamin Lesjak)\, ki bo potekalo v: 📅 četrtek\, 28. 11. 2024 ⏰ ob 16:00 uri 📍 Nova univerza\, Ljubljana (Mestni trg 23) Naslov predavanja: Regulacija digitalnega sveta: Podatki\, storitve in umetna inteligenca ter ključni EU akti Opis: Predavanje bo osvetlilo ključne elemente nove evropske zakonodaje [&hellip\;]
URL;VALUE=URI:https://fds.nova-uni.si/dogodki/vabilo-gostujoce-predavanje-pri-predmetu-informacijska-druzba-in-uprava/
SUMMARY:[VABILO]: Gostujoče predavanje pri predmetu Informacijska družba in uprava
DTSTART:20241128T160000Z
END:VEVENT
END:VCALENDAR