BEGIN:VCALENDAR
VERSION:2.0
PRODID:-//hacksw/handcal//NONSGML v1.0//EN
CALSCALE:GREGORIAN
BEGIN:VEVENT
DTEND:20241204T120000Z
UID:nova-uni-event-16811
DTSTAMP:20260424T091737Z
LOCATION:Ljubljana
DESCRIPTION:Vabimo vas\, da se nam v sredo 4. decembra 2024\, s pričetkom ob 10:00\, pridružite skupinskemu obisku Odvetniške zbornice Slovenije\, ki bo potekal v sklopu aktivnosti Kariernega centra Nove univerze. Prijave zbiramo TUKAJ do vključno ponedeljka 2. decembra 2024. Več informacij TUKAJ.
URL;VALUE=URI:https://fds.nova-uni.si/dogodki/strokovna-ekskurzija-odvetniska-zbornica-slovenije/
SUMMARY:[STROKOVNA EKSKURZIJA] Odvetniška zbornica Slovenije
DTSTART:20241204T100000Z
END:VEVENT
END:VCALENDAR