BEGIN:VCALENDAR
VERSION:2.0
PRODID:-//hacksw/handcal//NONSGML v1.0//EN
CALSCALE:GREGORIAN
BEGIN:VEVENT
DTEND:20241205T120000Z
UID:nova-uni-event-16813
DTSTAMP:20260424T093417Z
LOCATION:
DESCRIPTION:Vabimo vas\, da se nam v četrtek 5. decembra 2024\, s pričetkom ob 10:00\, pridružite skupinskemu obisku Državnega odvetništva Republike Slovenije\, ki bo potekal v sklopu aktivnosti Kariernega centra Nove univerze. Prijave zbiramo TUKAJ do vključno torek 3. decembra 2024. Več informacij TUKAJ.
URL;VALUE=URI:https://fds.nova-uni.si/dogodki/strokovna-ekskurzija-drzavno-odvetnistvo/
SUMMARY:[STROKOVNA EKSKURZIJA] Državno odvetništvo
DTSTART:20241205T100000Z
END:VEVENT
END:VCALENDAR