BEGIN:VCALENDAR
VERSION:2.0
PRODID:-//hacksw/handcal//NONSGML v1.0//EN
CALSCALE:GREGORIAN
BEGIN:VEVENT
DTEND:20241211T120000Z
UID:nova-uni-event-16815
DTSTAMP:20260424T095219Z
LOCATION:
DESCRIPTION:Vabimo vas\, da se nam v sredo\, 11. decembra 2024\, s pričetkom ob 10:00\, pridružite na skupinskem obisku Okrožnega državnega tožilstva v Ljubljani. Prijave zbiramo TUKAJ do vključno ponedeljka 9. decembra 2024. Več informacij TUKAJ.
URL;VALUE=URI:https://fds.nova-uni.si/dogodki/strokovna-ekskurzija-vrhovno-in-okrozno-drzavno-tozilstvo/
SUMMARY:[STROKOVNA EKSKURZIJA] Vrhovno in Okrožno državno tožilstvo
DTSTART:20241211T100000Z
END:VEVENT
END:VCALENDAR