BEGIN:VCALENDAR
VERSION:2.0
PRODID:-//hacksw/handcal//NONSGML v1.0//EN
CALSCALE:GREGORIAN
BEGIN:VEVENT
DTEND:20241216T000000Z
UID:nova-uni-event-16817
DTSTAMP:20260424T092041Z
LOCATION:
DESCRIPTION:Vabimo vas\, da se nam v ponedeljek 16. decembra 2024\, s pričetkom ob 12.30\, pridružite na skupinskem obisku Državnega zbora Republike Slovenije. Prijave na dogodek zbiramo TUKAJ do vključno  četrtka 12. decembra 2024. Več informacij TUKAJ.
URL;VALUE=URI:https://fds.nova-uni.si/dogodki/strokovna-ekskurzija-drzavni-zbor-republike-slovenije/
SUMMARY:[STROKOVNA EKSKURZIJA] Državni zbor Republike Slovenije
DTSTART:20241216T123000Z
END:VEVENT
END:VCALENDAR