BEGIN:VCALENDAR
VERSION:2.0
PRODID:-//hacksw/handcal//NONSGML v1.0//EN
CALSCALE:GREGORIAN
BEGIN:VEVENT
DTEND:20241211T000000Z
UID:nova-uni-event-16843
DTSTAMP:20260424T093611Z
LOCATION:Zoom
DESCRIPTION:Študentski svet Fakultete za državne in evropske študije Nove univerze vas vabi\, da se udeležite dogodka: IZMENJAVA IZKUŠENJ IN ZAPISKOV 📅 Kdaj? Sreda\, 11. december 2024 ob 20.30 uri 📍 Kje? Preko aplikacije Zoom 🎯 Komu je dogodek namenjen? Vsem študentom dodiplomskega in podiplomskega študija Fakultete za državne in evropske študije Nove univerze Kaj pridobite? Na dogodku boste [&hellip\;]
URL;VALUE=URI:https://fds.nova-uni.si/dogodki/vabilo-na-dogodek-izmenjava-izkusenj-in-zapiskov/
SUMMARY:[VABILO] na dogodek Izmenjava izkušenj in zapiskov
DTSTART:20241211T203000Z
END:VEVENT
END:VCALENDAR