BEGIN:VCALENDAR
VERSION:2.0
PRODID:-//hacksw/handcal//NONSGML v1.0//EN
CALSCALE:GREGORIAN
BEGIN:VEVENT
DTEND:20241220T000000Z
UID:nova-uni-event-16845
DTSTAMP:20260424T095005Z
LOCATION:Hotel Marinšek Glavna cesta 2\, Naklo
DESCRIPTION:Spoštovani\, Študentski svet Fakultete za državne in evropske študije Nove univerze vas vabi na posebno praznično druženje: 🎄 DRUŽENJE OB PREDNOVOLETNI VEČERJI S PROFESORJI 🎄 📅 Kdaj? Petek\, 20. december 2024 ob 20. uri 📍 Kje? Hotel Marinšek Glavna cesta 2\, Naklo 🍽️ Kaj vključuje večerja? Priložnost za sproščeno druženje s profesorji in študenti ob prazničnem vzdušju ter odličnem meniju. [&hellip\;]
URL;VALUE=URI:https://fds.nova-uni.si/dogodki/16845/
SUMMARY:[VABILO] ŠS FDŠ NU – Prednovoletna večerja s profesorji
DTSTART:20241220T200000Z
END:VEVENT
END:VCALENDAR