BEGIN:VCALENDAR
VERSION:2.0
PRODID:-//hacksw/handcal//NONSGML v1.0//EN
CALSCALE:GREGORIAN
BEGIN:VEVENT
DTEND:20241209T091500Z
UID:nova-uni-event-16882
DTSTAMP:20260424T092400Z
LOCATION:FDŠ\, Kranj
DESCRIPTION:KANDIDAT/KA PREDSEDNIK/CA MENTOR/ICA ČLAN/ICA NASLOV MAGISTRSKEGA DELA DATUM  ZAG. URA ZAG. KJE Bregar Matevž prof. dr. Jernej Letnar Černič prof. dr. Ernest Petrič doc. dr. Katarina Vatovec Vpliv naprednih tehnologij v mednarodnih odnosih ponedeljek\, 9.12.2024 08:30 KR + Zoom
URL;VALUE=URI:https://fds.nova-uni.si/dogodki/zagovor-magistrskega-dela-matevz-bregar/
SUMMARY:Zagovor magistrskega dela &#8211\; Matevž Bregar
DTSTART:20241209T083000Z
END:VEVENT
END:VCALENDAR