BEGIN:VCALENDAR
VERSION:2.0
PRODID:-//hacksw/handcal//NONSGML v1.0//EN
CALSCALE:GREGORIAN
BEGIN:VEVENT
DTEND:20250211T160000Z
UID:nova-uni-event-17005
DTSTAMP:20260424T052331Z
LOCATION:Mestni trg 23
DESCRIPTION:Vabimo vas\, da se nam v torek 11. februarja 2025\, s pričetkom ob 14:00\, pridružite predavanju\, kjer bomo raziskovali aktualne tehnične in pravne vidike umetne intiligence pod naslovom “Umetna inteligenca in avtorske pravice.” Prijave zbiramo TUKAJ do vključno ponedeljka 10. februarja 2025. Več informacij TUKAJ.
URL;VALUE=URI:https://fds.nova-uni.si/dogodki/predavanje-umetna-inteligenca-in-avtorske-pravice/
SUMMARY:[PREDAVANJE] Umetna inteligenca in avtorske pravice
DTSTART:20250211T140000Z
END:VEVENT
END:VCALENDAR