BEGIN:VCALENDAR
VERSION:2.0
PRODID:-//hacksw/handcal//NONSGML v1.0//EN
CALSCALE:GREGORIAN
BEGIN:VEVENT
DTEND:20250220T120000Z
UID:nova-uni-event-17037
DTSTAMP:20260424T052330Z
LOCATION:Specializirano državno tožilstvo RS
DESCRIPTION:Vabimo vas\, da se nam dne 20. februarja 2025\, s pričetkom ob 10:00\, pridružite na skupinskemu vodenemu ogledu Specializiranega državnega tožilstva Republike Slovenije\, ki bo potekal v sklopu aktivnosti Kariernega centra Nove univerze. Prijave zbiramo TUKAJ do vključno ponedeljka 17. februarja 2025. Več informacij TUKAJ.
URL;VALUE=URI:https://fds.nova-uni.si/dogodki/strokovna-ekskurzija-specializirano-drzavno-tozilstvo-rs/
SUMMARY:[STROKOVNA EKSKURZIJA]: Specializirano državno tožilstvo RS
DTSTART:20250220T100000Z
END:VEVENT
END:VCALENDAR