BEGIN:VCALENDAR
VERSION:2.0
PRODID:-//hacksw/handcal//NONSGML v1.0//EN
CALSCALE:GREGORIAN
BEGIN:VEVENT
DTEND:20250214T000000Z
UID:nova-uni-event-17044
DTSTAMP:20260424T052154Z
LOCATION:Žanova ulica 3
DESCRIPTION:Fakulteta za državne in evropske študije vas vabi na Teden odprtih vrat\, ki bo potekal od 10. do 14. februarja 2025. V tem tednu bomo organizirali vrsto zanimivih predavanj\, ki jih bodo vodili profesorji iz našega akademskega zbora. Dogodek je odlična priložnost za vse\, ki razmišljate o študiju pri nas\, da iz prve roke doživite\, [&hellip\;]
URL;VALUE=URI:https://fds.nova-uni.si/dogodki/teden-odprtih-vrat-na-fakulteti-za-drzavne-in-evropske-studije/
SUMMARY:Teden odprtih vrat na Fakulteti za državne in evropske študije!
DTSTART:20250210T000000Z
END:VEVENT
END:VCALENDAR