BEGIN:VCALENDAR
VERSION:2.0
PRODID:-//hacksw/handcal//NONSGML v1.0//EN
CALSCALE:GREGORIAN
BEGIN:VEVENT
DTEND:20250213T180000Z
UID:nova-uni-event-17049
DTSTAMP:20260424T052718Z
LOCATION:Mestni trg 23
DESCRIPTION:Vabimo vas na gostujoče predavanje profesorja dr. Zorana Pavlovića s Pravne fakultete za gospodarstvo in sodstvo v Novem Sadu\, ki bo potekalo v četrtek\, 13. februarja 2025\, ob 16. uri v predavalnici Jožeta Pučnika (P1). Predavanje bo obravnavalo problematiko nasilja nad otroki v digitalnem svetu\, pri čemer bo poudarek na relevantni mednarodni in domači zakonodaji. Predstavljeni bosta [&hellip\;]
URL;VALUE=URI:https://fds.nova-uni.si/dogodki/vabilo-gostujoce-predavanje-ict-based-childrens-protection-in-the-republic-of-serbia/
SUMMARY:[VABILO] Gostujoče predavanje: ICT Based Children’s Protection in the Republic of Serbia
DTSTART:20250213T160000Z
END:VEVENT
END:VCALENDAR