BEGIN:VCALENDAR
VERSION:2.0
PRODID:-//hacksw/handcal//NONSGML v1.0//EN
CALSCALE:GREGORIAN
BEGIN:VEVENT
DTEND:20250218T000000Z
UID:nova-uni-event-17120
DTSTAMP:20260424T051848Z
LOCATION:Ljubljana
DESCRIPTION:Vljudno vabljeni na usposabljanje\, ki bo namenjeno seznanitvi z uporabo programa Zotero\, kar bi vam lahko bilo v pomoč pri pisanju doktorskega dela. Srečanje bo izvedel doc. dr. Tomaž Ivešić\, dekan Fakultete za slovenske in mednarodne študije in član akademskega zbora Nova univerze\, in bo potekalo v torek\, 18. 2. 2025\, ob 17. uri v prostorih Evropske [&hellip\;]
URL;VALUE=URI:https://fds.nova-uni.si/dogodki/vabilo-usposabljanje-za-doktorske-studente/
SUMMARY:[VABILO] Usposabljanje za doktorske študente
DTSTART:20250218T170000Z
END:VEVENT
END:VCALENDAR