BEGIN:VCALENDAR
VERSION:2.0
PRODID:-//hacksw/handcal//NONSGML v1.0//EN
CALSCALE:GREGORIAN
BEGIN:VEVENT
DTEND:20250513T170000Z
UID:nova-uni-event-17159
DTSTAMP:20260423T235813Z
LOCATION:Online
DESCRIPTION:Če ste zamudili informativne dni Fakultete za državne in evropske študije Nove univerze\, nič hudega! Vabimo na neformalne informativne dni: Kavica na fakulteti\, ki bodo potekali enkrat tedensko\, s pričetkom v naslednjem tednu. Na voljo bomo za vaša vprašanja o študijskih programih\, vpisnih postopkih\, kariernih možnostih med študijem in po zaključku študija ter o obštudijskih [&hellip\;]
URL;VALUE=URI:https://fds.nova-uni.si/dogodki/neformalni-informativni-dan-kavica-na-fakulteti-3/
SUMMARY:[NEFORMALNI INFORMATIVNI DAN] Kavica na fakulteti
DTSTART:20250513T160000Z
END:VEVENT
END:VCALENDAR