BEGIN:VCALENDAR
VERSION:2.0
PRODID:-//hacksw/handcal//NONSGML v1.0//EN
CALSCALE:GREGORIAN
BEGIN:VEVENT
DTEND:20260424T153000Z
UID:nova-uni-event-17213
DTSTAMP:20260424T033141Z
LOCATION:Online
DESCRIPTION:Vljudno vabljeni na 33. Evropski akademski forum Nove univerze\, ki bo potekal pod naslovom: Visoka tehnologija na eni in drugi strani Atlantika. Dogodek bo potekal v sredo\, 12. marca 2025\, s pričetkom ob 14.30 preko spletne platforme Zoom. Na dogodek se je potrebno predhodno prijaviti. Vabilo in več informacij o dogodku
URL;VALUE=URI:https://fds.nova-uni.si/dogodki/33-evropski-akademski-forum/
SUMMARY:33. Evropski akademski forum
DTSTART:20250312T143000Z
END:VEVENT
END:VCALENDAR