BEGIN:VCALENDAR
VERSION:2.0
PRODID:-//hacksw/handcal//NONSGML v1.0//EN
CALSCALE:GREGORIAN
BEGIN:VEVENT
DTEND:20250306T130000Z
UID:nova-uni-event-17216
DTSTAMP:20260424T033800Z
LOCATION:Mestni trg 23
DESCRIPTION:Vabimo vas na dogodek\, ki ga organizira Karierni center Nove univerze\, kjer bomo predstavili delo in vlogo Zagovornika načela enakosti\, zakonodajni okvir in prisotojnosti tega državnega organa. Dogodek bo potekal 6. marca 2025 ob 11. uri v predavalnici Jožeta Pučnika (P1)\, Mestni trg 23 v Ljubljani. Udeležba na dogodku je brezplačna. Število mest je omejeno. Prijave [&hellip\;]
URL;VALUE=URI:https://fds.nova-uni.si/dogodki/predstavitev-zagovornik-nacela-enakosti/
SUMMARY:[PREDSTAVITEV]: Zagovornik načela enakosti
DTSTART:20250306T110000Z
END:VEVENT
END:VCALENDAR