BEGIN:VCALENDAR
VERSION:2.0
PRODID:-//hacksw/handcal//NONSGML v1.0//EN
CALSCALE:GREGORIAN
BEGIN:VEVENT
DTEND:20251017T000000Z
UID:nova-uni-event-17247
DTSTAMP:20260422T200440Z
LOCATION:Ljubljana
DESCRIPTION:XII. MEDNARODNA DOKTORSKA ZNANSTVENO-RAZISKOVALNA KONFERENCA četrtek 16. in petek 17. oktober 2025\, v prostorih Nove univerze\, Mestni trg 23\, Ljubljana ******************************************************************* V A B I L O ******************************************************************* Spoštovane doktorske študentke\, spoštovani doktorski študenti!   Vabimo vas k sodelovanju na XII. mednarodni doktorski znanstveno-raziskovalni konferenci Nove univerze\, ki jo organizirajo Evropska pravna fakulteta\, Fakulteta za [&hellip\;]
URL;VALUE=URI:https://fds.nova-uni.si/dogodki/xii-mednarodna-doktorska-znanstveno-raziskovalna-konferenca-13-6-2024/
SUMMARY:[XII. MEDNARODNA DOKTORSKA ZNANSTVENO-RAZISKOVALNA KONFERENCA] – četrtek 16. in petek 17. oktober 2025
DTSTART:20251016T000000Z
END:VEVENT
END:VCALENDAR