BEGIN:VCALENDAR
VERSION:2.0
PRODID:-//hacksw/handcal//NONSGML v1.0//EN
CALSCALE:GREGORIAN
BEGIN:VEVENT
DTEND:20260424T173000Z
UID:nova-uni-event-17326
DTSTAMP:20260424T020137Z
LOCATION:Mestni trg 23
DESCRIPTION:Vljudno vabljeni na 35. Evropski akademski forum Nove univerze\, ki bo potekal pod naslovom: Zasebno varstvo v sodobnih družbah (Slovenija in mednarodna praksa). Dogodek bo potekal v sredo\, 9. aprila 2025\, s pričetkom ob 16. uri v živo na Novi univerzi\, Mestni trg 23. Dogodek se bo snemal. Na dogodek se je potrebno predhodno prijaviti. Vabilo [&hellip\;]
URL;VALUE=URI:https://fds.nova-uni.si/dogodki/35-evropski-akademski-forum/
SUMMARY:35. Evropski akademski forum
DTSTART:20250409T160000Z
END:VEVENT
END:VCALENDAR