BEGIN:VCALENDAR
VERSION:2.0
PRODID:-//hacksw/handcal//NONSGML v1.0//EN
CALSCALE:GREGORIAN
BEGIN:VEVENT
DTEND:20250402T210000Z
UID:nova-uni-event-17347
DTSTAMP:20260424T015125Z
LOCATION:Dunaj
DESCRIPTION:Vabimo vas\, na tridnevno strokovno ekskurzijo na Dunaj\, mesto bogate cesarske zgodovine\, ki bo potekala od  31. marca do 2. aprila 2025. Priložnost za raziskovanje kulture\, zgodovine in političnih ustanov tega slikovitega mesta ne smete zamuditi. 🌍 Ne zamudite priložnosti za nepozabno izkušnjo na Dunaju\, kjer boste lahko združili strokovno znanje z odkrivanjem enega najlepših evropskih mest.
URL;VALUE=URI:https://fds.nova-uni.si/dogodki/strokovna-ekskurzija-dunaj/
SUMMARY:[STROKOVNA EKSKURZIJA]: Dunaj
DTSTART:20250331T070000Z
END:VEVENT
END:VCALENDAR