BEGIN:VCALENDAR
VERSION:2.0
PRODID:-//hacksw/handcal//NONSGML v1.0//EN
CALSCALE:GREGORIAN
BEGIN:VEVENT
DTEND:20260424T130000Z
UID:nova-uni-event-17457
DTSTAMP:20260424T020119Z
LOCATION:Mestni trg 23
DESCRIPTION:We invite you to join us for an engaging workshop on Reformed Constitutionalism for a Fair and Sustainable Algorithmic Society (ConAlgo). This event will bring together distinguished experts to explore the intersection of constitutional law and the challenges posed by an algorithm-driven society. Speakers: Matej Avbelj – Professor of European Law\, New University Karin Bruckmüller – Professor of [&hellip\;]
URL;VALUE=URI:https://fds.nova-uni.si/dogodki/workshop-reformed-constitutionalism-for-fair-and-sustainable-algorithmic-society-conalgo/
SUMMARY:[WORKSHOP] Reformed Constitutionalism for Fair and Sustainable Algorithmic Society (ConAlgo)
DTSTART:20250408T090000Z
END:VEVENT
END:VCALENDAR