BEGIN:VCALENDAR
VERSION:2.0
PRODID:-//hacksw/handcal//NONSGML v1.0//EN
CALSCALE:GREGORIAN
BEGIN:VEVENT
DTEND:20250422T160000Z
UID:nova-uni-event-17506
DTSTAMP:20260424T020451Z
LOCATION:Predavalnica Jožeta Pučnika P1
DESCRIPTION:Študentski svet Nove univerze vas vabi na javni pogovor z naslovom Sekularizacija – med izzivi in priložnostmi za Cerkev in državo\, ki bo potekal v torek 22. aprila 2025 ob 1. uri na Novi univerzi\, Mestni trg 23\, 1000 Ljubljana (predavalnica Jožeta Pučnika P1). V sodobni družbi\, kjer se religija vse pogosteje umika iz javnega [&hellip\;]
URL;VALUE=URI:https://fds.nova-uni.si/dogodki/vabilo-na-pogovor-sekularizacija-med-izzivi-in-priloznostmi-za-cerkev-in-drzavo/
SUMMARY:Vabilo na pogovor: Sekularizacija – med izzivi in priložnostmi za Cerkev in državo
DTSTART:20250422T140000Z
END:VEVENT
END:VCALENDAR