BEGIN:VCALENDAR
VERSION:2.0
PRODID:-//hacksw/handcal//NONSGML v1.0//EN
CALSCALE:GREGORIAN
BEGIN:VEVENT
DTEND:20250424T180000Z
UID:nova-uni-event-17612
DTSTAMP:20260424T020940Z
LOCATION:Ljubljana
DESCRIPTION:Karierni center Nove univerze vas vabi v četrtek 24. aprila 2025 ob 14. uri na izobraževanje\, ki ga bo vodil g. Matej Cerovšek\, predstavnik direktorata za okolje pri Ministrstvu za okolje\, podnebje in energijo na temo Zeleno javno naročanje v Republiki Sloveniji. Predavanje bo potekalo v predavalnici Jožeta Pučnika (P1). Več informacij TUKAJ. Prijave zbiramo TUKAJ do vključno [&hellip\;]
URL;VALUE=URI:https://fds.nova-uni.si/dogodki/izobrazevanje-zeleno-javno-narocanje-v-republiki-sloveniji/
SUMMARY:[IZOBRAŽEVANJE]: Zeleno javno naročanje v Republiki Sloveniji
DTSTART:20250424T140000Z
END:VEVENT
END:VCALENDAR