BEGIN:VCALENDAR
VERSION:2.0
PRODID:-//hacksw/handcal//NONSGML v1.0//EN
CALSCALE:GREGORIAN
BEGIN:VEVENT
DTEND:20250424T150000Z
UID:nova-uni-event-17651
DTSTAMP:20260424T020940Z
LOCATION:Zoom
DESCRIPTION:Vabimo vas na ThinkLAB dogodek z naslovom: »Trajnostno upravljanje terjatev – mit\, nuja ali priložnost?«\, ki bo potekal v četrtek\, 24. aprila 2025\, od 14.00 do 15.00\, preko spletne platforme ZOOM. Dogodek poteka v okviru projekta »Trajnostno upravljanje terjatev v skladu s Slovensko strategijo trajnostne pametne specializacije (S5)« in predstavlja novo obliko interaktivne razprave\, ki [&hellip\;]
URL;VALUE=URI:https://fds.nova-uni.si/dogodki/pus-trajnostno-upravljanje-terjatev-mit-nuja-ali-priloznost/
SUMMARY:[PUŠ] : Trajnostno upravljanje terjatev – mit\, nuja ali priložnost?
DTSTART:20250424T140000Z
END:VEVENT
END:VCALENDAR