BEGIN:VCALENDAR
VERSION:2.0
PRODID:-//hacksw/handcal//NONSGML v1.0//EN
CALSCALE:GREGORIAN
BEGIN:VEVENT
DTEND:20250425T120000Z
UID:nova-uni-event-17654
DTSTAMP:20260424T020148Z
LOCATION:Zoom
DESCRIPTION:Vabimo vas vabimo na NOVAThinkLAB dogodek z naslovom:  &#8220\;PRAVO IN TRAJNOSTNI TURIZEM: partnerstvo z močjo ali ovira na poti?« \, ki bo potekal v petek\, 25. 4. 2025\, od 11:00 do 12:00 preko spletne platforme Zoom.  Dogodek poteka v okviru projekta »Pravo in trajnostni turizem: Pravna podpora za trajnostno prihodnost lokalnega turizma« in predstavlja novo [&hellip\;]
URL;VALUE=URI:https://fds.nova-uni.si/dogodki/pus-pravo-in-trajnostni-turizem-partnerstvo-z-mocjo-ali-ovira-na-poti/
SUMMARY:[PUŠ]: PRAVO IN TRAJNOSTNI TURIZEM: partnerstvo z močjo ali ovira na poti?
DTSTART:20250425T110000Z
END:VEVENT
END:VCALENDAR