BEGIN:VCALENDAR
VERSION:2.0
PRODID:-//hacksw/handcal//NONSGML v1.0//EN
CALSCALE:GREGORIAN
BEGIN:VEVENT
DTEND:20250515T000000Z
UID:nova-uni-event-17658
DTSTAMP:20260423T235719Z
LOCATION:
DESCRIPTION:Vabimo vas\, da se udeležite informativnih dni Fakultete za državne in evropske študije (FDŠ)\, kjer vam bomo predstavili našo ponudbo magistrskih in doktorskih programov\, vključno z novim programom Mednarodni management. Pridružite se nam in odkrijte\, kako lahko s študijem oblikujete prihodnost javne uprave\, prava in mednarodnih odnosov. LOKACIJA IN TERMIN Kranj (Žanova ulica 3\, 4000 [&hellip\;]
URL;VALUE=URI:https://fds.nova-uni.si/dogodki/ne-spreglejte-informativni-dnevi-za-podiplomski-studij/
SUMMARY:[NE SPREGLEJTE] Informativni dan za podiplomski študij &#8211\; Kranj
DTSTART:20250515T163000Z
END:VEVENT
END:VCALENDAR