BEGIN:VCALENDAR
VERSION:2.0
PRODID:-//hacksw/handcal//NONSGML v1.0//EN
CALSCALE:GREGORIAN
BEGIN:VEVENT
DTEND:20250520T150000Z
UID:nova-uni-event-17728
DTSTAMP:20260423T233450Z
LOCATION:Mestni trg 23
DESCRIPTION:Vabimo Vas na znanstveno konferenco\, ki jo v okviru svojega akademskega foruma prireja Nova univerza o temi: ZAKON O PSIHOTERAPIJI. Dogodek bo potekal v torek\, 20. maja 2025 ob 14. uri\, v dvorani Nove univerze (Prvo nadstropje\, Mestni trg 23\, Ljubljana). Po otvoritvi dogodka bo v uvodu v imenu pripravljalne skupine za zakon o psihoterapiji z [&hellip\;]
URL;VALUE=URI:https://fds.nova-uni.si/dogodki/znanstvena-konferenca-zakon-o-psihoterapiji/
SUMMARY:Znanstvena konferenca: Zakon o psihoterapiji
DTSTART:20250520T140000Z
END:VEVENT
END:VCALENDAR