BEGIN:VCALENDAR
VERSION:2.0
PRODID:-//hacksw/handcal//NONSGML v1.0//EN
CALSCALE:GREGORIAN
BEGIN:VEVENT
DTEND:20250529T150000Z
UID:nova-uni-event-17730
DTSTAMP:20260423T233536Z
LOCATION:Online
DESCRIPTION:Vljudno vabljeni na zaključni 36. Evropski akademski forum Jean Monnet katedre\, ki bo potekal pod naslovom:    »Kaj se je zgodilo z EU v zadnjih treh letih in kako naprej?« Spletni dogodek bo potekal v četrtek\, 29. maja 2025\, s pričetkom ob 14. uri. Dogodek se bo snemal. Na dogodek se je potrebno predhodno prijaviti. Vabilo [&hellip\;]
URL;VALUE=URI:https://fds.nova-uni.si/dogodki/36-evropski-akademski-forum/
SUMMARY:36. Evropski akademski forum
DTSTART:20250529T140000Z
END:VEVENT
END:VCALENDAR