BEGIN:VCALENDAR
VERSION:2.0
PRODID:-//hacksw/handcal//NONSGML v1.0//EN
CALSCALE:GREGORIAN
BEGIN:VEVENT
DTEND:20250617T173000Z
UID:nova-uni-event-17806
DTSTAMP:20260423T175835Z
LOCATION:Predavalnica P1\, Mestni trg 23
DESCRIPTION:Vljudno vabimo na Akademski forum Nove univerze\, z naslovom: »Na robu ravnotežja: Evropa\, Nato in umetnost dialoga«. Dekanji Fakultete za državne in evropske študije izred. prof. dr. Liliani Brožič\, se bodo v razpravi pridružili: Andrej Benedejčič\, veleposlanik\, stalni predstavnik Slovenije v Severnoatlantskem svetu\, generalmajor v pokoju dr. Alojz Šteiner\, nekdanji načelnik generalštaba SV\, polkovnica v pokoju\, dr. Mojca Pešec\, nekdanja Nacionalna predstavnica [&hellip\;]
URL;VALUE=URI:https://fds.nova-uni.si/dogodki/akademski-forum-na-robu-ravnotezja/
SUMMARY:Akademski forum: Na robu ravnotežja
DTSTART:20250617T163000Z
END:VEVENT
END:VCALENDAR