BEGIN:VCALENDAR
VERSION:2.0
PRODID:-//hacksw/handcal//NONSGML v1.0//EN
CALSCALE:GREGORIAN
BEGIN:VEVENT
DTEND:20250619T110000Z
UID:nova-uni-event-17883
DTSTAMP:20260423T175835Z
LOCATION:Predavalnica Jožeta Pučnika P1
DESCRIPTION:Center za karierni razvoj in mednarodne mobilnosti Nove univerze te v četrtek\, 19. junija 2025 ob 10.00 vabi na informativni dan Erasmus+\, kjer ti bomo predstavili vse\, kar moraš vedeti\, če razmišljaš o mobilnosti v tujino. 👉 Kaj lahko pričakuješ? ✅ Predstavitev Erasmus+ programa ✅ Vse o možnostih študija in prakse v tujini ✅ Kako izbereš pravo institucijo [&hellip\;]
URL;VALUE=URI:https://fds.nova-uni.si/dogodki/vabilo-informativni-dan-erasmus-%f0%9f%8c%8d/
SUMMARY:[VABILO]: Informativni dan Erasmus+ 🌍
DTSTART:20250619T100000Z
END:VEVENT
END:VCALENDAR