BEGIN:VCALENDAR
VERSION:2.0
PRODID:-//hacksw/handcal//NONSGML v1.0//EN
CALSCALE:GREGORIAN
BEGIN:VEVENT
DTEND:20250919T000000Z
UID:nova-uni-event-17893
DTSTAMP:20260423T021709Z
LOCATION:Mestni trg 23
DESCRIPTION:Vabimo vas na mednarodno Jesensko šolo Nove univerze 2025 z naslovom Stanovanjska problematika: različni vidiki\, izzivi in možne rešitve\, ki jo organizira Evropska pravna fakulteta Nove univerze\, skupaj s Fakulteto za državne in evropske študije Nove univerze\, Fakulteto za slovenske in mednarodne študije Nove univerze ter partnerskima institucijama: Effectus veleučilište (Hrvaška) in Pravni fakultet za [&hellip\;]
URL;VALUE=URI:https://fds.nova-uni.si/dogodki/napovednik-jesenska-sola-nove-univerze/
SUMMARY:[NAPOVEDNIK] Jesenska šola Nove univerze
DTSTART:20250915T000000Z
END:VEVENT
END:VCALENDAR