BEGIN:VCALENDAR
VERSION:2.0
PRODID:-//hacksw/handcal//NONSGML v1.0//EN
CALSCALE:GREGORIAN
BEGIN:VEVENT
DTEND:20260423T140000Z
UID:nova-uni-event-17929
DTSTAMP:20260423T125913Z
LOCATION:Predavalnica P1\, Mestni trg 23
DESCRIPTION:Nova univerza vljudno vabi na akademski forum Nove univerze\, ki bo potekal pod naslovom: Umetna inteligenca\, vladavina prava in tehno-oligarhija. Dogodek v slovenskem jeziku bo potekal v ponedeljek\, 14. julija 2025\, s pričetkom ob 13. uri v predavalnici P1 na Mestnem trgu 23. Več podrobnosti najdete v VABILU. Prosimo\, da svojo udeležbo potrdite najkasneje do srede\, 11. [&hellip\;]
URL;VALUE=URI:https://fds.nova-uni.si/dogodki/akademski-forum-umetna-inteligenca-vladavina-prava-in-tehno-oligarhija/
SUMMARY:[AKADEMSKI FORUM]: Umetna inteligenca\, vladavina prava in tehno-oligarhija
DTSTART:20250714T130000Z
END:VEVENT
END:VCALENDAR