BEGIN:VCALENDAR
VERSION:2.0
PRODID:-//hacksw/handcal//NONSGML v1.0//EN
CALSCALE:GREGORIAN
BEGIN:VEVENT
DTEND:20251002T000000Z
UID:nova-uni-event-18556
DTSTAMP:20260422T194350Z
LOCATION:
DESCRIPTION:Študentski svet FDŠ NU organizira strokovno ekskurzijo v Zagreb\, ki bo potekala 2. oktobra 2025. Na ekskurziji bomo obiskali: Veleposlaništvo Republike Slovenije v Zagrebu\, kjer boste spoznali\, kako je organizirano delo na enem izmed večjih slovenskih veleposlaništev\, katere naloge in pristojnosti ima ter kako deluje mreža slovenskih diplomatsko-konzularnih predstavništev po svetu. Imeli boste tudi priložnost [&hellip\;]
URL;VALUE=URI:https://fds.nova-uni.si/dogodki/vabilo-ss-fds-nu-na-strokovno-ekskurzijo-v-zagreb-2-oktobra-2025/
SUMMARY:Vabilo ŠS FDŠ NU na strokovno ekskurzijo v Zagreb &#8211\; 2. oktober 2025
DTSTART:20251002T000000Z
END:VEVENT
END:VCALENDAR