BEGIN:VCALENDAR
VERSION:2.0
PRODID:-//hacksw/handcal//NONSGML v1.0//EN
CALSCALE:GREGORIAN
BEGIN:VEVENT
DTEND:20251001T160000Z
UID:nova-uni-event-18597
DTSTAMP:20260422T185109Z
LOCATION:Mestni trg 23
DESCRIPTION:Nova univerza vljudno vabi na otvoritev novega študijskega leta 2025/2025. Dogodek bo potekal v sredo\, 1. 10. 2025 s pričetkom ob 15. uri\, v prostorih študijskega centra Nove univerze v Ljubljani. Na dogodek so vabljeni vsi študenti in člani akademske skupnosti\, še posebej pa bruci. Več informacij o poteku dogodka lahko najdete v vabilu in priloženem programu.
URL;VALUE=URI:https://fds.nova-uni.si/dogodki/vabilo-otvoritev-novega-studijskega-leta-2025-2026/
SUMMARY:[VABILO] Otvoritev novega študijskega leta 2025/2026
DTSTART:20251001T150000Z
END:VEVENT
END:VCALENDAR