BEGIN:VCALENDAR
VERSION:2.0
PRODID:-//hacksw/handcal//NONSGML v1.0//EN
CALSCALE:GREGORIAN
BEGIN:VEVENT
DTEND:20251008T153000Z
UID:nova-uni-event-18603
DTSTAMP:20260422T193926Z
LOCATION:Predavalnica P1\, Mestni trg 23
DESCRIPTION:V okviru ARIS projekta Reformirani konstitucionalizem za pravično in trajnostno algoritemsko družbo (ConAlgo) vas vljudno vabimo na 2. Akademski AI-forum Nove univerze\, z naslovom: »Je moj sodnik lahko robot?«. Vodja Akademskega foruma\, dr. Matej Avbelj\, bo tokrat gostil vrhovnega sodnika dr. Damjana Oroža ter skupino magistrskih študentov\, ki so pri predmetu Pravo in UI opravljali empirično raziskavo\, sprašujoč se\, ali je UI že [&hellip\;]
URL;VALUE=URI:https://fds.nova-uni.si/dogodki/je-moj-sodnik-lahko-robot/
SUMMARY:[AKADEMSKI AI FORUM]: Je moj sodnik lahko robot?
DTSTART:20251008T143000Z
END:VEVENT
END:VCALENDAR