BEGIN:VCALENDAR
VERSION:2.0
PRODID:-//hacksw/handcal//NONSGML v1.0//EN
CALSCALE:GREGORIAN
BEGIN:VEVENT
DTEND:20251017T133000Z
UID:nova-uni-event-18673
DTSTAMP:20260422T192326Z
LOCATION:Ljubljana
DESCRIPTION:Vabimo na znanstveno konferenco\, ki jo ob 80-letnici konca druge svetovne vojne organizirata Nova univerza\, Fakulteta za slovenske in mednarodne študije (FSMŠ)\, in Knjižnica Dušana Černeta iz Trsta. Več informacij najdete TUKAJ.
URL;VALUE=URI:https://fds.nova-uni.si/dogodki/vabilo-znanstvena-konferenca-slovenci-po-svetu-in-konec-druge-svetovne-vojne/
SUMMARY:[VABILO] Znanstvena konferenca: Slovenci po svetu in konec druge svetovne vojne
DTSTART:20251017T090000Z
END:VEVENT
END:VCALENDAR