BEGIN:VCALENDAR
VERSION:2.0
PRODID:-//hacksw/handcal//NONSGML v1.0//EN
CALSCALE:GREGORIAN
BEGIN:VEVENT
DTEND:20251016T150000Z
UID:nova-uni-event-18696
DTSTAMP:20260422T200726Z
LOCATION:Mestni trg 23
DESCRIPTION:Vabimo vas na gostujoče predavanje dr. Višnje Jurić z EFFECTUS University of Applied Sciences\, ki bo potekalo v četrtek\, 16. oktobra 2025\, ob 14. uri v predavalnici Jožeta Pučnika (P1) ali prek spleta. Več informacij TUKAJ.
URL;VALUE=URI:https://fds.nova-uni.si/dogodki/gostujoce-predavanje-graphical-presentation-of-data-in-research-papers/
SUMMARY:[GOSTUJOČE PREDAVANJE]: Graphical Presentation of Data in Research Papers
DTSTART:20251016T140000Z
END:VEVENT
END:VCALENDAR