BEGIN:VCALENDAR
VERSION:2.0
PRODID:-//hacksw/handcal//NONSGML v1.0//EN
CALSCALE:GREGORIAN
BEGIN:VEVENT
DTEND:20251110T160000Z
UID:nova-uni-event-18790
DTSTAMP:20260422T133950Z
LOCATION:Zoom
DESCRIPTION:Vse doktorske študente vabimo na delavnico &#8220\;Kako napisati izvirni znanstveni članek&#8221\;\, ki bo potekala 10. novembra 2025 ob 14.00 preko spletne platforme Zoom. Prijave zbiramo TUKAJ do vključno četrtka\, 6. novembra 2025. Povezavo do dogodka prejmete po prijavi. Več informacij TUKAJ.
URL;VALUE=URI:https://fds.nova-uni.si/dogodki/delavnica-kako-napisati-izvirni-znanstveni-clanek/
SUMMARY:[DELAVNICA]: Kako napisati izvirni znanstveni članek
DTSTART:20251110T140000Z
END:VEVENT
END:VCALENDAR