BEGIN:VCALENDAR
VERSION:2.0
PRODID:-//hacksw/handcal//NONSGML v1.0//EN
CALSCALE:GREGORIAN
BEGIN:VEVENT
DTEND:20251113T120000Z
UID:nova-uni-event-18794
DTSTAMP:20260422T131604Z
LOCATION:Predavalnica Leona Štuklja (P2)\, Mestni trg 23
DESCRIPTION:Vljudno vas vabimo na Akademski forum Nove univerze z naslovom »Skrbni pregled dobavnih verig v upravnem pravu«. Na dogodku bo gostovala ga. Beata Faracik s Poljskega inštituta za človekove pravice v gospodarstvu\, ki bo izvedla predavanje na omenjeno temo. Forum se bo osredotočil na vprašanje\, kakšna je lahko vloga upravnega prava pri regulaciji varstva človekovih pravic in okolja v dobavnih verigah [&hellip\;]
URL;VALUE=URI:https://fds.nova-uni.si/dogodki/akademski-forum-skrbni-pregled-dobavnih-verig-v-upravnem-pravu/
SUMMARY:[AKADEMSKI FORUM]: Skrbni pregled dobavnih verig v upravnem pravu
DTSTART:20251113T110000Z
END:VEVENT
END:VCALENDAR