BEGIN:VCALENDAR
VERSION:2.0
PRODID:-//hacksw/handcal//NONSGML v1.0//EN
CALSCALE:GREGORIAN
BEGIN:VEVENT
DTEND:20251124T170000Z
UID:nova-uni-event-18798
DTSTAMP:20260422T135803Z
LOCATION:Predavalnica Jožeta Pučnika (P1)\, Mestni trg 23
DESCRIPTION:Prijazno vabljeni na Akademski forum Nove univerze\, posvečen znanstveni monografiji Povezani v usodi? Solidarnost in njene meje v evropskem povezovanju\, ki je pred kratkim izšla pri Univerzitetni založbi Nove univerze. Vodja Akademskega foruma dr. Matej Avbelj bo gostil avtorja monografije dr. Igorja Senčarja\, v razpravi pa se mu bodo pridružili: dr. Liliana Brožič (FDŠ\, Nova [&hellip\;]
URL;VALUE=URI:https://fds.nova-uni.si/dogodki/akademski-forum-povezani-v-usodi-solidarnost-in-njene-meje-v-evropskem-povezovanju/
SUMMARY:[AKADEMSKI FORUM]: Povezani v usodi? Solidarnost in njene meje v evropskem povezovanju
DTSTART:20251124T160000Z
END:VEVENT
END:VCALENDAR