BEGIN:VCALENDAR
VERSION:2.0
PRODID:-//hacksw/handcal//NONSGML v1.0//EN
CALSCALE:GREGORIAN
BEGIN:VEVENT
DTEND:20260422T170000Z
UID:nova-uni-event-18880
DTSTAMP:20260422T130201Z
LOCATION:Predavalnica Jožeta Pučnika (P1)\, Mestni trg 23
DESCRIPTION:Dr. Matej Avbelj\, host of the Academic Forum\, cordially invites you to a lecture by H.E. Ms. Sylvia Ursula Katja Groneick\, Ambassador of the Federal Republic of Germany to Slovenia. The lecture will address Germany’s role in Europe and the world today\, nearly four decades after the fall of the Berlin Wall\, and the challenges [&hellip\;]
URL;VALUE=URI:https://fds.nova-uni.si/dogodki/akademski-forum-zeitenwende-accelerated-is-germany-ready-for-strategic-leadership/
SUMMARY:[AKADEMSKI FORUM]: »”Zeitenwende” Accelerated – Is Germany Ready for Strategic Leadership?«
DTSTART:20251125T160000Z
END:VEVENT
END:VCALENDAR