BEGIN:VCALENDAR
VERSION:2.0
PRODID:-//hacksw/handcal//NONSGML v1.0//EN
CALSCALE:GREGORIAN
BEGIN:VEVENT
DTEND:20251125T150000Z
UID:nova-uni-event-18909
DTSTAMP:20260422T122600Z
LOCATION:ZOOM
DESCRIPTION:Vabljeni v torek\, 25. novembra 2025 ob 14.00 na dogodek Kariernega centra Nove univerze z naslovom »Umetna inteligenca v karierni orientaciji: ko algoritmi ustvarjajo oz. berejo tvoj CV«\, na katerem bomo iskali odgovore na vprašanje\, kako umetna inteligenca oblikuje procese zaposlovanja in vpliva na izbiro kandidatov v selekcijskih postopkih. Predstavitev bo izvedla Nataša Kolavčič\, pravnica [&hellip\;]
URL;VALUE=URI:https://fds.nova-uni.si/dogodki/karierni-center-umetna-inteligenca-v-karierni-orientaciji-ko-algoritmi-ustvarjajo-oz-berejo-tvoj-cv/
SUMMARY:[KARIERNI CENTER]: Umetna inteligenca v karierni orientaciji: ko algoritmi ustvarjajo oz. berejo tvoj CV
DTSTART:20251125T140000Z
END:VEVENT
END:VCALENDAR