BEGIN:VCALENDAR
VERSION:2.0
PRODID:-//hacksw/handcal//NONSGML v1.0//EN
CALSCALE:GREGORIAN
BEGIN:VEVENT
DTEND:20251215T190000Z
UID:nova-uni-event-18935
DTSTAMP:20260422T070740Z
LOCATION:Predavalnica Roberta Schumana (P4)
DESCRIPTION:Slovensko društvo za evropsko pravo vas vabi na predstavitev tem in nacionalnih poročevalcev\, ki so bili predstavljeni na 31. kongresu Mednarodne federacije za evropsko pravo (FIDE)\, ki je potekal v Katowicah (28.–31. maja 2025). 🗓 Ponedeljek\, 15. december 2025\, ob 18. uri 📍 Predavalnica Roberta Schumana (P4)\, Mestni trg 23\, Ljubljana Za udeležbo se prijavite na: sdepinfo@gmail.com. Po predstavitvi [&hellip\;]
URL;VALUE=URI:https://fds.nova-uni.si/dogodki/konferenca-predstavitev-tem-in-nacionalnih-porocevalcev-31-kongresa-fide/
SUMMARY:[KONFERENCA]: Predstavitev tem in nacionalnih poročevalcev 31. kongresa FIDE
DTSTART:20251215T180000Z
END:VEVENT
END:VCALENDAR