BEGIN:VCALENDAR
VERSION:2.0
PRODID:-//hacksw/handcal//NONSGML v1.0//EN
CALSCALE:GREGORIAN
BEGIN:VEVENT
DTEND:20251216T140000Z
UID:nova-uni-event-18962
DTSTAMP:20260423T005115Z
LOCATION:Državni zbor RS
DESCRIPTION:Vabimo vas\, da se nam v torek\, 16. decembra 2025\, s pričetkom ob 12. uri pridružite na vodenem obisku Državnega zbora Republike Slovenije\, ki bo potekal v sklopu aktivnosti Kariernega centra Nove univerze. Prijave zbiramo TUKAJ do vključno četrtka 11. decembra 2025. Več informacij TUKAJ
URL;VALUE=URI:https://fds.nova-uni.si/language/en/dogodki/strokovna-ekskurzija-drzavni-zbor-rs/
SUMMARY:[STROKOVNA EKSKURZIJA]: Državni zbor RS
DTSTART:20251216T120000Z
END:VEVENT
END:VCALENDAR