BEGIN:VCALENDAR
VERSION:2.0
PRODID:-//hacksw/handcal//NONSGML v1.0//EN
CALSCALE:GREGORIAN
BEGIN:VEVENT
DTEND:20260128T180000Z
UID:nova-uni-event-19084
DTSTAMP:20260422T012836Z
LOCATION:Predavalnica Jožeta Pučnika P1
DESCRIPTION:We cordially invite you to join us on Wednesday\, 28 January 2026\, at 16:00\, for the ceremony marking the conferral of an honorary doctorate of the New University upon Ms Maria Velikonja. The ceremony will include the formal conferral of the honorary doctorate\, followed by a lecture delivered by the honorary doctor entitled: Frontlines and Footnotes: A Career Spanning War\, Justice\, [&hellip\;]
URL;VALUE=URI:https://fds.nova-uni.si/dogodki/invitation-honorary-doctorate-award-ceremony-and-lecture-by-maria-velikonja/
SUMMARY:[INVITATION]: Honorary doctorate award ceremony and lecture by Maria Velikonja
DTSTART:20260128T160000Z
END:VEVENT
END:VCALENDAR