BEGIN:VCALENDAR
VERSION:2.0
PRODID:-//hacksw/handcal//NONSGML v1.0//EN
CALSCALE:GREGORIAN
BEGIN:VEVENT
DTEND:20260213T150000Z
UID:nova-uni-event-19139
DTSTAMP:20260421T192921Z
LOCATION:Zoom
DESCRIPTION:Together with Slovenian public universities\, New University invites international students to join the Study in Slovenia Online Info Days. During the sessions\, we will present the Slovenian higher education system\, enrolment procedures\, and the benefits of studying and living in Slovenia\, with insights from the perspective of international students\, followed by a Q&amp\;A on studying [&hellip\;]
URL;VALUE=URI:https://fds.nova-uni.si/dogodki/online-information-days-study-in-slovenia/
SUMMARY:[Online Information Days] : Study in Slovenia
DTSTART:20260211T140000Z
END:VEVENT
END:VCALENDAR