BEGIN:VCALENDAR
VERSION:2.0
PRODID:-//hacksw/handcal//NONSGML v1.0//EN
CALSCALE:GREGORIAN
BEGIN:VEVENT
DTEND:20260213T170000Z
UID:nova-uni-event-19142
DTSTAMP:20260421T192905Z
LOCATION:hibridno
DESCRIPTION:Fakulteta za državne in evropske študije Nove univerze vas vabi na informativni dan za dodiplomski študij\, ki bo potekal v: petek\, 13. 2. 2026 ob 16. uri: v Kranju\, Žanova ulica 3 prenos preko Zoom platforme*. *Vsi zainteresirani\, ki bi se informativnega dne udeležili preko Zoom povezave\, vas prosimo\, da se na dogodek prijavite preko SPLETNEGA [&hellip\;]
URL;VALUE=URI:https://fds.nova-uni.si/dogodki/informativni-dan-za-dodiplomske-studijske-programe/
SUMMARY:[INFORMATIVNI DAN] za dodiplomske študijske programe
DTSTART:20260213T160000Z
END:VEVENT
END:VCALENDAR