BEGIN:VCALENDAR
VERSION:2.0
PRODID:-//hacksw/handcal//NONSGML v1.0//EN
CALSCALE:GREGORIAN
BEGIN:VEVENT
DTEND:20260305T170000Z
UID:nova-uni-event-19187
DTSTAMP:20260421T123950Z
LOCATION:Predavalnica Jožeta Pučnika (P1)\, Mestni trg 23
DESCRIPTION:Vljudno vas vabimo na Akademski forum Nove univerze z naslovom »Izzivi oboroženih sil 35 let kasneje«. Razprava bo namenjena premisleku o razvoju\, dosežkih in prihodnjih izzivih oboroženih sil ter širšem varnostnem okolju. Forum bo moderirala izr. prof. dr. Liliana Brožič\, v razpravi pa bodo sodelovali: Jelko Kacin\, nekdanji minister za obrambo (1994-1997)\, evropski poslanec (2004-2009) in stalni [&hellip\;]
URL;VALUE=URI:https://fds.nova-uni.si/dogodki/akademski-forum-izzivi-oborozenih-sil-35-let-kasneje/
SUMMARY:[AKADEMSKI FORUM]: Izzivi oboroženih sil 35 let kasneje
DTSTART:20260305T160000Z
END:VEVENT
END:VCALENDAR